BEGIN:VCALENDAR
VERSION:2.0
PRODID:-//West Adams Neighborhood Council - ECPv6.15.20//NONSGML v1.0//EN
CALSCALE:GREGORIAN
METHOD:PUBLISH
X-ORIGINAL-URL:https://westadamsnc.org
X-WR-CALDESC:Events for West Adams Neighborhood Council
REFRESH-INTERVAL;VALUE=DURATION:PT1H
X-Robots-Tag:noindex
X-PUBLISHED-TTL:PT1H
BEGIN:VTIMEZONE
TZID:America/Los_Angeles
BEGIN:DAYLIGHT
TZOFFSETFROM:-0800
TZOFFSETTO:-0700
TZNAME:PDT
DTSTART:20240310T100000
END:DAYLIGHT
BEGIN:STANDARD
TZOFFSETFROM:-0700
TZOFFSETTO:-0800
TZNAME:PST
DTSTART:20241103T090000
END:STANDARD
BEGIN:DAYLIGHT
TZOFFSETFROM:-0800
TZOFFSETTO:-0700
TZNAME:PDT
DTSTART:20250309T100000
END:DAYLIGHT
BEGIN:STANDARD
TZOFFSETFROM:-0700
TZOFFSETTO:-0800
TZNAME:PST
DTSTART:20251102T090000
END:STANDARD
BEGIN:DAYLIGHT
TZOFFSETFROM:-0800
TZOFFSETTO:-0700
TZNAME:PDT
DTSTART:20260308T100000
END:DAYLIGHT
BEGIN:STANDARD
TZOFFSETFROM:-0700
TZOFFSETTO:-0800
TZNAME:PST
DTSTART:20261101T090000
END:STANDARD
END:VTIMEZONE
BEGIN:VEVENT
DTSTART;TZID=America/Los_Angeles:20250816T100000
DTEND;TZID=America/Los_Angeles:20250816T120000
DTSTAMP:20260419T051454
CREATED:20250814T024940Z
LAST-MODIFIED:20250814T024940Z
UID:10000791-1755338400-1755345600@westadamsnc.org
SUMMARY:Good+Foundation's Community Volunteer Day
DESCRIPTION:This volunteer event brings together volunteers of all ages to sort and bundle donations that directly support families throughout Los Angeles. As a returning volunteer\, you know the power of community. We’d love for you to bring your family\, neighbors\, or friends to be part of this meaningful day of giving. \nWhat You’ll Do\nWork side-by-side with other volunteers from our community to organize essential items for families in need. Your efforts will help families access the critical resources they need to thrive. \nWhy It Matters\nSince 2001\, Good+Foundation has provided over $95 million in essential goods while also offering services like employment support\, co-parenting classes\, and counseling. Our goal is to create upward mobility for families by addressing both immediate and long-term needs. \nThis event is part of our Multigenerational Community Days\, made possible with support from The Eisner Foundation\, whose commitment to engaging people of all ages makes events like this possible. \nPlease Note\nAll volunteers must wear closed-toe shoes to participate. Parent or guardian must accompany volunteers under the age of 12 years old. We look forward to working alongside you again!
URL:https://westadamsnc.org/event/goodfoundations-community-volunteer-day/
LOCATION:4403 Jefferson Blvd\, 4403 Jefferson Blvd\, 90016
CATEGORIES:Community Events
END:VEVENT
END:VCALENDAR