BEGIN:VCALENDAR
VERSION:2.0
PRODID:-//West Adams Neighborhood Council - ECPv6.15.20//NONSGML v1.0//EN
CALSCALE:GREGORIAN
METHOD:PUBLISH
X-ORIGINAL-URL:https://westadamsnc.org
X-WR-CALDESC:Events for West Adams Neighborhood Council
REFRESH-INTERVAL;VALUE=DURATION:PT1H
X-Robots-Tag:noindex
X-PUBLISHED-TTL:PT1H
BEGIN:VTIMEZONE
TZID:America/Los_Angeles
BEGIN:DAYLIGHT
TZOFFSETFROM:-0800
TZOFFSETTO:-0700
TZNAME:PDT
DTSTART:20240310T100000
END:DAYLIGHT
BEGIN:STANDARD
TZOFFSETFROM:-0700
TZOFFSETTO:-0800
TZNAME:PST
DTSTART:20241103T090000
END:STANDARD
BEGIN:DAYLIGHT
TZOFFSETFROM:-0800
TZOFFSETTO:-0700
TZNAME:PDT
DTSTART:20250309T100000
END:DAYLIGHT
BEGIN:STANDARD
TZOFFSETFROM:-0700
TZOFFSETTO:-0800
TZNAME:PST
DTSTART:20251102T090000
END:STANDARD
BEGIN:DAYLIGHT
TZOFFSETFROM:-0800
TZOFFSETTO:-0700
TZNAME:PDT
DTSTART:20260308T100000
END:DAYLIGHT
BEGIN:STANDARD
TZOFFSETFROM:-0700
TZOFFSETTO:-0800
TZNAME:PST
DTSTART:20261101T090000
END:STANDARD
END:VTIMEZONE
BEGIN:VEVENT
DTSTART;TZID=America/Los_Angeles:20251108T100000
DTEND;TZID=America/Los_Angeles:20251108T140000
DTSTAMP:20260421T010712
CREATED:20251031T194219Z
LAST-MODIFIED:20251031T194334Z
UID:10000804-1762596000-1762610400@westadamsnc.org
SUMMARY:60th Anniversary Commemoration of the Watts Uprising
DESCRIPTION:From Fire to Future: 60 Years of Resistance\, Renewal and Vision\n\n\nJoin us for a day celebrating culture and creating space for collective visioning. This event is intended to strengthen intergenerational resilience and uplift community power \n\nPresented by:\nLos Angeles County Commission on Human Relations\nLos Angeles City Human Relations Commission\nLos Angeles Civil + Human Rights & Equity Department\n\nFor questions or inquires please contact: Liliana.Villa@lacity.org
URL:https://westadamsnc.org/event/60th-anniversary-commemoration-of-the-watts-uprising/
LOCATION:CHILDREN’S INSTITUTE – WATTS\, 10200 S. Success Avenue\, Los Angeles\, CA\, 90016\, United States
CATEGORIES:Community Events
ATTACH;FMTTYPE=image/png:https://westadamsnc.org/wp-content/uploads/Screenshot-2025-10-31-at-12.36.50-PM.png
END:VEVENT
END:VCALENDAR